BEGIN:VCALENDAR
VERSION:2.0
PRODID:-//Alpha Kappa Alpha Sorority, Inc. - ECPv6.15.10//NONSGML v1.0//EN
CALSCALE:GREGORIAN
METHOD:PUBLISH
X-WR-CALNAME:Alpha Kappa Alpha Sorority, Inc.
X-ORIGINAL-URL:https://www.rdoaka.com
X-WR-CALDESC:Events for Alpha Kappa Alpha Sorority, Inc.
REFRESH-INTERVAL;VALUE=DURATION:PT1H
X-Robots-Tag:noindex
X-PUBLISHED-TTL:PT1H
BEGIN:VTIMEZONE
TZID:America/Los_Angeles
BEGIN:DAYLIGHT
TZOFFSETFROM:-0800
TZOFFSETTO:-0700
TZNAME:PDT
DTSTART:20190310T100000
END:DAYLIGHT
BEGIN:STANDARD
TZOFFSETFROM:-0700
TZOFFSETTO:-0800
TZNAME:PST
DTSTART:20191103T090000
END:STANDARD
BEGIN:DAYLIGHT
TZOFFSETFROM:-0800
TZOFFSETTO:-0700
TZNAME:PDT
DTSTART:20200308T100000
END:DAYLIGHT
BEGIN:STANDARD
TZOFFSETFROM:-0700
TZOFFSETTO:-0800
TZNAME:PST
DTSTART:20201101T090000
END:STANDARD
BEGIN:DAYLIGHT
TZOFFSETFROM:-0800
TZOFFSETTO:-0700
TZNAME:PDT
DTSTART:20210314T100000
END:DAYLIGHT
BEGIN:STANDARD
TZOFFSETFROM:-0700
TZOFFSETTO:-0800
TZNAME:PST
DTSTART:20211107T090000
END:STANDARD
BEGIN:DAYLIGHT
TZOFFSETFROM:-0800
TZOFFSETTO:-0700
TZNAME:PDT
DTSTART:20220313T100000
END:DAYLIGHT
BEGIN:STANDARD
TZOFFSETFROM:-0700
TZOFFSETTO:-0800
TZNAME:PST
DTSTART:20221106T090000
END:STANDARD
BEGIN:DAYLIGHT
TZOFFSETFROM:-0800
TZOFFSETTO:-0700
TZNAME:PDT
DTSTART:20230312T100000
END:DAYLIGHT
BEGIN:STANDARD
TZOFFSETFROM:-0700
TZOFFSETTO:-0800
TZNAME:PST
DTSTART:20231105T090000
END:STANDARD
BEGIN:DAYLIGHT
TZOFFSETFROM:-0800
TZOFFSETTO:-0700
TZNAME:PDT
DTSTART:20240310T100000
END:DAYLIGHT
BEGIN:STANDARD
TZOFFSETFROM:-0700
TZOFFSETTO:-0800
TZNAME:PST
DTSTART:20241103T090000
END:STANDARD
BEGIN:DAYLIGHT
TZOFFSETFROM:-0800
TZOFFSETTO:-0700
TZNAME:PDT
DTSTART:20250309T100000
END:DAYLIGHT
BEGIN:STANDARD
TZOFFSETFROM:-0700
TZOFFSETTO:-0800
TZNAME:PST
DTSTART:20251102T090000
END:STANDARD
END:VTIMEZONE
BEGIN:VEVENT
DTSTART;TZID=America/Los_Angeles:20240218T150000
DTEND;TZID=America/Los_Angeles:20240218T170000
DTSTAMP:20260423T114526
CREATED:20240113T084018Z
LAST-MODIFIED:20241130T162218Z
UID:5618-1708268400-1708275600@www.rdoaka.com
SUMMARY:RDO AKA Chapter Meeting
DESCRIPTION:Rho Delta Omega chapter meetings are open to members of Alpha Kappa Alpha Sorority\, Incorporated® only. Chapter meetings are typically the third Sunday of each month\, with the exception of July and August. All visiting members must have a photo ID for verification (Driver’s License\, Military ID\, or ID card) and secondary form of identification proving membership in Alpha Kappa Alpha Sorority\, Incorporated®. \nPlease contact us at membership@rdoaka.com if you are a member of Alpha Kappa Alpha Sorority\, Incorporated® and wish to visit our chapter meeting. \nNOTE: This is a joint meeting with the Undergraduate Xi Beta Chapter.
URL:https://www.rdoaka.com/upcoming-event/rdo-aka-chapter-meeting-feb-2024/
LOCATION:Old Union – Stanford University\, 520 Lasuen Mall\, Stanford\, CA\, 94305\, United States
ATTACH;FMTTYPE=image/png:https://www.rdoaka.com/wp-content/uploads/2022/07/soaring_logo-1000x1000-1-e1732976740559.png
END:VEVENT
BEGIN:VEVENT
DTSTART;TZID=America/Los_Angeles:20240128T150000
DTEND;TZID=America/Los_Angeles:20240128T170000
DTSTAMP:20260423T114526
CREATED:20240113T083706Z
LAST-MODIFIED:20241130T144204Z
UID:5615-1706454000-1706461200@www.rdoaka.com
SUMMARY:RDO AKA Chapter Meeting
DESCRIPTION:Rho Delta Omega chapter meetings are open to members of Alpha Kappa Alpha Sorority\, Incorporated® only. All visiting members must have a photo ID for verification (Driver’s License\, Military ID\, or ID card) and secondary form of identification proving membership in Alpha Kappa Alpha Sorority\, Incorporated®. \nPlease contact us at membership@rdoaka.com if you are a member of Alpha Kappa Alpha Sorority\, Incorporated® and wish to visit our chapter meeting.
URL:https://www.rdoaka.com/upcoming-event/rdo-aka-chapter-meeting-jan-2024/
LOCATION:Los Altos Community Center\, 97 Hillview Ave\, Los Altos\, CA\, 94022\, United States
ATTACH;FMTTYPE=image/png:https://www.rdoaka.com/wp-content/uploads/2022/07/soaring_logo-1000x1000-1-e1732976740559.png
END:VEVENT
BEGIN:VEVENT
DTSTART;TZID=America/Los_Angeles:20240115T090000
DTEND;TZID=America/Los_Angeles:20240115T120000
DTSTAMP:20260423T114526
CREATED:20240113T083153Z
LAST-MODIFIED:20241130T140406Z
UID:5604-1705309200-1705320000@www.rdoaka.com
SUMMARY:2024 Founders' Day and MLK Day of Service
DESCRIPTION:Calling all AKAs and friends to join us for a Founders’ Day of service and celebration with a morning of weeding\, mulching planting\, turning compost\, and starting seeds. \nClick here to register today.
URL:https://www.rdoaka.com/upcoming-event/2024-founders-day-and-mlk-day-of-service/
LOCATION:East Palo Alto Charter School Garden\, 1286 Runnymede Street\, East Palo Alto\, CA\, 94303\, United States
ATTACH;FMTTYPE=image/jpeg:https://www.rdoaka.com/wp-content/uploads/2024/09/MLKDayOfService-01-e1732975425522.jpg
END:VEVENT
BEGIN:VEVENT
DTSTART;TZID=America/Los_Angeles:20230318T080000
DTEND;TZID=America/Los_Angeles:20230318T170000
DTSTAMP:20260423T114526
CREATED:20230203T065905Z
LAST-MODIFIED:20230203T065905Z
UID:5462-1679126400-1679158800@www.rdoaka.com
SUMMARY:2023 BCA
DESCRIPTION:2023 BCA
URL:https://www.rdoaka.com/upcoming-event/2023-bca/
END:VEVENT
BEGIN:VEVENT
DTSTART;VALUE=DATE:20220408
DTEND;VALUE=DATE:20220409
DTSTAMP:20260423T114526
CREATED:20200503T012114Z
LAST-MODIFIED:20200503T024538Z
UID:4927-1649376000-1649462399@www.rdoaka.com
SUMMARY:AKA Global Impact Day Observance
DESCRIPTION:
URL:https://www.rdoaka.com/upcoming-event/aka-global-impact-day-observance-2/
LOCATION:CA\, United States
END:VEVENT
BEGIN:VEVENT
DTSTART;VALUE=DATE:20220204
DTEND;VALUE=DATE:20220205
DTSTAMP:20260423T114526
CREATED:20200503T012045Z
LAST-MODIFIED:20200503T012045Z
UID:4925-1643932800-1644019199@www.rdoaka.com
SUMMARY:Pink Goes Red Day for Heart Health
DESCRIPTION:
URL:https://www.rdoaka.com/upcoming-event/pink-goes-red-day-for-heart-health-2/
END:VEVENT
BEGIN:VEVENT
DTSTART;VALUE=DATE:20220117
DTEND;VALUE=DATE:20220118
DTSTAMP:20260423T114526
CREATED:20200503T012010Z
LAST-MODIFIED:20200503T012010Z
UID:4923-1642377600-1642463999@www.rdoaka.com
SUMMARY:Dr. Martin Luther King\, Jr. International Day of Service
DESCRIPTION:
URL:https://www.rdoaka.com/upcoming-event/dr-martin-luther-king-jr-international-day-of-service-2/
END:VEVENT
BEGIN:VEVENT
DTSTART;VALUE=DATE:20211115
DTEND;VALUE=DATE:20211116
DTSTAMP:20260423T114526
CREATED:20200503T011925Z
LAST-MODIFIED:20200503T011925Z
UID:4921-1636934400-1637020799@www.rdoaka.com
SUMMARY:AKA Caregivers' Day Observance
DESCRIPTION:
URL:https://www.rdoaka.com/upcoming-event/aka-caregivers-day-observance-2/
END:VEVENT
BEGIN:VEVENT
DTSTART;VALUE=DATE:20211004
DTEND;VALUE=DATE:20211005
DTSTAMP:20260423T114526
CREATED:20200503T011853Z
LAST-MODIFIED:20200503T011853Z
UID:4918-1633305600-1633391999@www.rdoaka.com
SUMMARY:Breast Cancer Awareness Day
DESCRIPTION:
URL:https://www.rdoaka.com/upcoming-event/breast-cancer-awareness-day-2/
END:VEVENT
BEGIN:VEVENT
DTSTART;VALUE=DATE:20210920
DTEND;VALUE=DATE:20210921
DTSTAMP:20260423T114526
CREATED:20200503T011811Z
LAST-MODIFIED:20200503T011811Z
UID:4916-1632096000-1632182399@www.rdoaka.com
SUMMARY:AKA HBCU Day
DESCRIPTION:
URL:https://www.rdoaka.com/upcoming-event/aka-hbcu-day-2/
END:VEVENT
BEGIN:VEVENT
DTSTART;VALUE=DATE:20210822
DTEND;VALUE=DATE:20210823
DTSTAMP:20260423T114526
CREATED:20200503T011742Z
LAST-MODIFIED:20200503T011742Z
UID:4914-1629590400-1629676799@www.rdoaka.com
SUMMARY:AKA International Day Of Prayer
DESCRIPTION:
URL:https://www.rdoaka.com/upcoming-event/aka-international-day-of-prayer-2/
END:VEVENT
BEGIN:VEVENT
DTSTART;VALUE=DATE:20210409
DTEND;VALUE=DATE:20210410
DTSTAMP:20260423T114526
CREATED:20200503T011700Z
LAST-MODIFIED:20200503T011700Z
UID:4912-1617926400-1618012799@www.rdoaka.com
SUMMARY:AKA Global Impact Day Observance
DESCRIPTION:
URL:https://www.rdoaka.com/upcoming-event/aka-global-impact-day-observance/
END:VEVENT
BEGIN:VEVENT
DTSTART;VALUE=DATE:20210220
DTEND;VALUE=DATE:20210221
DTSTAMP:20260423T114526
CREATED:20210209T145041Z
LAST-MODIFIED:20210209T145311Z
UID:5025-1613779200-1613865599@www.rdoaka.com
SUMMARY:Black History Month Art Contest
DESCRIPTION:BLACK HISTORY MONTH ART CONTEST! \n \nENTER YOUR ARTWORK TODAY FOR A CHANCE TO WIN! \nSubmissions of original art\, poetry\, spoken word videos or musical selection videos related to the theme must be submitted to RDOPrograms@ivyandpearls.org by Saturday\, February 20\, 2021. Video submissions should be no longer than 1 minute. Each submission must include the name\, age\, phone number\, and photo of the artist. All submissions will be featured on Rho Delta Omega social media accounts. The artist and a parent/guardian are asked to attend the virtual awards ceremony on Sunday\, February 28th\, at 3 pm.  \nFor age-appropriate books on the Harlem Renaissance\, click here. \n$100 first place\, $50 second place and $25 third place prizes will be awarded in age groups 7-11\, 12-15 and 16-18.  \nBLACK HISTORY MONTH Art Contest-2
URL:https://www.rdoaka.com/upcoming-event/black-history-month-art-contest/
END:VEVENT
BEGIN:VEVENT
DTSTART;VALUE=DATE:20210205
DTEND;VALUE=DATE:20210206
DTSTAMP:20260423T114526
CREATED:20200503T011629Z
LAST-MODIFIED:20200503T011629Z
UID:4910-1612483200-1612569599@www.rdoaka.com
SUMMARY:Pink Goes Red Day for Heart Health
DESCRIPTION:
URL:https://www.rdoaka.com/upcoming-event/pink-goes-red-day-for-heart-health/
END:VEVENT
BEGIN:VEVENT
DTSTART;VALUE=DATE:20210118
DTEND;VALUE=DATE:20210119
DTSTAMP:20260423T114526
CREATED:20200503T011535Z
LAST-MODIFIED:20200503T011535Z
UID:4908-1610928000-1611014399@www.rdoaka.com
SUMMARY:Dr. Martin Luther King\, Jr. International Day of Service
DESCRIPTION:
URL:https://www.rdoaka.com/upcoming-event/dr-martin-luther-king-jr-international-day-of-service/
END:VEVENT
BEGIN:VEVENT
DTSTART;VALUE=DATE:20201213
DTEND;VALUE=DATE:20201214
DTSTAMP:20260423T114526
CREATED:20200503T004113Z
LAST-MODIFIED:20200503T004113Z
UID:4898-1607817600-1607903999@www.rdoaka.com
SUMMARY:December Chapter Meeting
DESCRIPTION:Email membership@rdoaka.com for location and time
URL:https://www.rdoaka.com/upcoming-event/december-chapter-meeting/
END:VEVENT
BEGIN:VEVENT
DTSTART;VALUE=DATE:20201120
DTEND;VALUE=DATE:20201121
DTSTAMP:20260423T114526
CREATED:20200503T004316Z
LAST-MODIFIED:20200503T004316Z
UID:4906-1605830400-1605916799@www.rdoaka.com
SUMMARY:AKA Caregivers' Day Observance
DESCRIPTION:
URL:https://www.rdoaka.com/upcoming-event/aka-caregivers-day-observance/
END:VEVENT
BEGIN:VEVENT
DTSTART;VALUE=DATE:20201115
DTEND;VALUE=DATE:20201116
DTSTAMP:20260423T114526
CREATED:20200503T004024Z
LAST-MODIFIED:20200503T004024Z
UID:4896-1605398400-1605484799@www.rdoaka.com
SUMMARY:November Chapter Meeting
DESCRIPTION:Email membership@rdoaka.com for location and time
URL:https://www.rdoaka.com/upcoming-event/november-chapter-meeting/
END:VEVENT
BEGIN:VEVENT
DTSTART;VALUE=DATE:20201018
DTEND;VALUE=DATE:20201019
DTSTAMP:20260423T114526
CREATED:20200503T003943Z
LAST-MODIFIED:20200503T003943Z
UID:4894-1602979200-1603065599@www.rdoaka.com
SUMMARY:October Chapter Meeting
DESCRIPTION:Email membership@rdoaka.com for location and time
URL:https://www.rdoaka.com/upcoming-event/october-chapter-meeting/
END:VEVENT
BEGIN:VEVENT
DTSTART;VALUE=DATE:20201005
DTEND;VALUE=DATE:20201006
DTSTAMP:20260423T114526
CREATED:20200503T004239Z
LAST-MODIFIED:20200503T004239Z
UID:4904-1601856000-1601942399@www.rdoaka.com
SUMMARY:Breast Cancer Awareness Day
DESCRIPTION:
URL:https://www.rdoaka.com/upcoming-event/breast-cancer-awareness-day/
END:VEVENT
BEGIN:VEVENT
DTSTART;VALUE=DATE:20200921
DTEND;VALUE=DATE:20200922
DTSTAMP:20260423T114526
CREATED:20200503T004211Z
LAST-MODIFIED:20200503T004211Z
UID:4902-1600646400-1600732799@www.rdoaka.com
SUMMARY:AKA HBCU Day
DESCRIPTION:
URL:https://www.rdoaka.com/upcoming-event/aka-hbcu-day/
END:VEVENT
BEGIN:VEVENT
DTSTART;VALUE=DATE:20200920
DTEND;VALUE=DATE:20200921
DTSTAMP:20260423T114526
CREATED:20200503T003902Z
LAST-MODIFIED:20200503T003902Z
UID:4892-1600560000-1600646399@www.rdoaka.com
SUMMARY:September Chapter Meeting
DESCRIPTION:Email membership@rdoaka.com for location and time
URL:https://www.rdoaka.com/upcoming-event/september-chapter-meeting/
END:VEVENT
BEGIN:VEVENT
DTSTART;TZID=America/Los_Angeles:20200917T190000
DTEND;TZID=America/Los_Angeles:20200917T200000
DTSTAMP:20260423T114526
CREATED:20200913T160213Z
LAST-MODIFIED:20200913T161108Z
UID:4985-1600369200-1600372800@www.rdoaka.com
SUMMARY:Operation EMR
DESCRIPTION:Operation: EMR is a virtual moderated forum designed to highlight the impact of the fall election on Black women and their families. Key highlights discussed will include voter registration and mail-in voting given the pervasive misinformation about these processes. \nHosted by Alpha Kappa Alpha Sorority\, Incorporated\, Rho Delta Omega and Xi Gamma Omega Chapters and Delta Sigma Theta Sorority\, Incorporated\, San Francisco-Peninsula Alumnae Chapter – nonpartisan organizations working to advance equity and improve the quality of life for the Black community. \nOperation EMR is a product of our organizations’ commitment to civic engagement at and beyond the polls. \nOur aim is to:\nEducate – Local and State Ballot Propositions\nMobilize – In Our Community To Win\nRegister – Everyone in the Household \nRSVP NOW USING THIS LINK: www.bwopatileleads.org/OPERATIONEMR.
URL:https://www.rdoaka.com/upcoming-event/operation-emr/
ATTACH;FMTTYPE=image/jpeg:https://www.rdoaka.com/wp-content/uploads/2020/09/EMR-Eventbrite-scaled.jpg
END:VEVENT
BEGIN:VEVENT
DTSTART;VALUE=DATE:20200823
DTEND;VALUE=DATE:20200824
DTSTAMP:20260423T114526
CREATED:20200503T004144Z
LAST-MODIFIED:20200503T004144Z
UID:4900-1598140800-1598227199@www.rdoaka.com
SUMMARY:AKA International Day Of Prayer
DESCRIPTION:
URL:https://www.rdoaka.com/upcoming-event/aka-international-day-of-prayer/
END:VEVENT
BEGIN:VEVENT
DTSTART;VALUE=DATE:20200614
DTEND;VALUE=DATE:20200615
DTSTAMP:20260423T114526
CREATED:20200503T003818Z
LAST-MODIFIED:20200503T003818Z
UID:4890-1592092800-1592179199@www.rdoaka.com
SUMMARY:June Chapter Meeting
DESCRIPTION:Email membership@rdoaka.com for location and time
URL:https://www.rdoaka.com/upcoming-event/june-chapter-meeting/
END:VEVENT
BEGIN:VEVENT
DTSTART;VALUE=DATE:20200517
DTEND;VALUE=DATE:20200518
DTSTAMP:20260423T114526
CREATED:20200503T003748Z
LAST-MODIFIED:20200503T003748Z
UID:4888-1589673600-1589759999@www.rdoaka.com
SUMMARY:May Chapter Meeting
DESCRIPTION:Email membership@rdoaka.com for location and time
URL:https://www.rdoaka.com/upcoming-event/may-chapter-meeting/
END:VEVENT
BEGIN:VEVENT
DTSTART;VALUE=DATE:20200419
DTEND;VALUE=DATE:20200420
DTSTAMP:20260423T114526
CREATED:20200503T003707Z
LAST-MODIFIED:20200503T003707Z
UID:4886-1587254400-1587340799@www.rdoaka.com
SUMMARY:April Chapter Meeting
DESCRIPTION:Email membership@rdoaka.com for location and time
URL:https://www.rdoaka.com/upcoming-event/april-chapter-meeting/
END:VEVENT
BEGIN:VEVENT
DTSTART;VALUE=DATE:20200315
DTEND;VALUE=DATE:20200316
DTSTAMP:20260423T114526
CREATED:20200503T003625Z
LAST-MODIFIED:20200503T003625Z
UID:4884-1584230400-1584316799@www.rdoaka.com
SUMMARY:March Chapter Meeting
DESCRIPTION:Email membership@rdoaka.com for location and time
URL:https://www.rdoaka.com/upcoming-event/march-chapter-meeting/
END:VEVENT
BEGIN:VEVENT
DTSTART;VALUE=DATE:20200209
DTEND;VALUE=DATE:20200210
DTSTAMP:20260423T114526
CREATED:20200503T003527Z
LAST-MODIFIED:20200503T003543Z
UID:4882-1581206400-1581292799@www.rdoaka.com
SUMMARY:February Chapter Meeting
DESCRIPTION:Email membership@rdoaka.com for location and time
URL:https://www.rdoaka.com/upcoming-event/february-chapter-meeting/
END:VEVENT
BEGIN:VEVENT
DTSTART;VALUE=DATE:20200112
DTEND;VALUE=DATE:20200113
DTSTAMP:20260423T114526
CREATED:20200503T003227Z
LAST-MODIFIED:20200503T003446Z
UID:4878-1578787200-1578873599@www.rdoaka.com
SUMMARY:January Chapter Meeting
DESCRIPTION:Email membership@rdoaka.com for location and time
URL:https://www.rdoaka.com/upcoming-event/january-chapter-meeting/
END:VEVENT
END:VCALENDAR