BEGIN:VCALENDAR
VERSION:2.0
PRODID:-//Alpha Kappa Alpha Sorority, Inc. - ECPv6.15.10//NONSGML v1.0//EN
CALSCALE:GREGORIAN
METHOD:PUBLISH
X-WR-CALNAME:Alpha Kappa Alpha Sorority, Inc.
X-ORIGINAL-URL:https://www.rdoaka.com
X-WR-CALDESC:Events for Alpha Kappa Alpha Sorority, Inc.
REFRESH-INTERVAL;VALUE=DURATION:PT1H
X-Robots-Tag:noindex
X-PUBLISHED-TTL:PT1H
BEGIN:VTIMEZONE
TZID:America/Los_Angeles
BEGIN:DAYLIGHT
TZOFFSETFROM:-0800
TZOFFSETTO:-0700
TZNAME:PDT
DTSTART:20240310T100000
END:DAYLIGHT
BEGIN:STANDARD
TZOFFSETFROM:-0700
TZOFFSETTO:-0800
TZNAME:PST
DTSTART:20241103T090000
END:STANDARD
BEGIN:DAYLIGHT
TZOFFSETFROM:-0800
TZOFFSETTO:-0700
TZNAME:PDT
DTSTART:20250309T100000
END:DAYLIGHT
BEGIN:STANDARD
TZOFFSETFROM:-0700
TZOFFSETTO:-0800
TZNAME:PST
DTSTART:20251102T090000
END:STANDARD
BEGIN:DAYLIGHT
TZOFFSETFROM:-0800
TZOFFSETTO:-0700
TZNAME:PDT
DTSTART:20260308T100000
END:DAYLIGHT
BEGIN:STANDARD
TZOFFSETFROM:-0700
TZOFFSETTO:-0800
TZNAME:PST
DTSTART:20261101T090000
END:STANDARD
BEGIN:DAYLIGHT
TZOFFSETFROM:-0800
TZOFFSETTO:-0700
TZNAME:PDT
DTSTART:20270314T100000
END:DAYLIGHT
BEGIN:STANDARD
TZOFFSETFROM:-0700
TZOFFSETTO:-0800
TZNAME:PST
DTSTART:20271107T090000
END:STANDARD
END:VTIMEZONE
BEGIN:VEVENT
DTSTART;TZID=America/Los_Angeles:20260222T150000
DTEND;TZID=America/Los_Angeles:20260222T170000
DTSTAMP:20260423T084113
CREATED:20260124T094908Z
LAST-MODIFIED:20260124T094908Z
UID:6931-1771772400-1771779600@www.rdoaka.com
SUMMARY:RDO AKA Chapter Meeting
DESCRIPTION:Rho Delta Omega chapter meetings are open to members of Alpha Kappa Alpha Sorority\, Incorporated® only. Chapter meetings are typically the third Sunday of each month\, with the exception of July and August. All visiting members must have a photo ID for verification (Driver’s License\, Military ID\, or ID card) and secondary form of identification proving membership in Alpha Kappa Alpha Sorority\, Incorporated®. \nPlease contact us at membership@rdoaka.com if you are a member of Alpha Kappa Alpha Sorority\, Incorporated® and wish to visit our chapter meeting.
URL:https://www.rdoaka.com/upcoming-event/rdo-aka-chapter-meeting-16/
END:VEVENT
BEGIN:VEVENT
DTSTART;TZID=America/Los_Angeles:20260207T100000
DTEND;TZID=America/Los_Angeles:20260207T130000
DTSTAMP:20260423T084113
CREATED:20260124T094455Z
LAST-MODIFIED:20260124T094455Z
UID:6928-1770458400-1770469200@www.rdoaka.com
SUMMARY:Pink Goes Red - Sponsored by Eta Rho Omega
DESCRIPTION:
URL:https://www.rdoaka.com/upcoming-event/pink-goes-red-sponsored-by-eta-rho-omega/
LOCATION:Emmanuel Baptist Church\, 467 N. White Road\, San Jose\, CA\, 95127\, United States
END:VEVENT
BEGIN:VEVENT
DTSTART;TZID=America/Los_Angeles:20260206T173000
DTEND;TZID=America/Los_Angeles:20260206T193000
DTSTAMP:20260423T084113
CREATED:20260124T093858Z
LAST-MODIFIED:20260124T094609Z
UID:6924-1770399000-1770406200@www.rdoaka.com
SUMMARY:Black History Month AI: Ancestral Intelligence (Featuring Judge Robert Rigsby)
DESCRIPTION:To register for this free event (tickets are required): \nhttps://www.eventbrite.com/e/evening-with-judge-rigsby-tickets-1980491212530 \n \n \nUmoja and the Black Student Union at Foothill College\, in partnership with Umoja at Mission Valley College\, are honored to invite you to our 2026 Black History Month Kickoff event\, AI: Ancestral Intelligence. \nThis event centers on honoring the profound legacy of our ancestors and recognizing how their collective wisdom\, leadership\, and sacrifice continue to inform our present and shape the future. As previously shared\, this kickoff also serves as a moment to pay homage to Historically Black Greek Letter Organizations and community leaders whose enduring commitment to service and justice has strengthened generations. \nWe are especially honored to feature keynote speaker\, the Honorable Robert R. Rigsby\, Associate Judge of the District of Columbia Superior Court\, whose life and work embody the principles of determination\, service\, and transformational leadership. \nEvent Details:\nDate: Friday\, February 6\, 2026\nTime: 5:30 PM – 7:30 PM\nLocation: Appreciation Hall\, Room 1501\nFoothill Community College\nLos Altos Hills\, CA \nPlease note that this is a free event; however\, tickets are required and can be obtained via Eventbrite.  We hope you will join us for this meaningful kickoff as we collectively honor our past and inspire the next generation of leaders.
URL:https://www.rdoaka.com/upcoming-event/black-history-month-ai-ancestral-intelligence-featuring-judge-robert-rigsby/
LOCATION:Foothill Community College\, 12345 El Monte Rd\, Los Altos Hills\, CA\, United States
END:VEVENT
BEGIN:VEVENT
DTSTART;TZID=America/Los_Angeles:20260125T150000
DTEND;TZID=America/Los_Angeles:20260125T170000
DTSTAMP:20260423T084113
CREATED:20260124T093051Z
LAST-MODIFIED:20260124T093051Z
UID:6922-1769353200-1769360400@www.rdoaka.com
SUMMARY:RDO AKA Chapter Meeting
DESCRIPTION:Rho Delta Omega chapter meetings are open to members of Alpha Kappa Alpha Sorority\, Incorporated® only. Chapter meetings are typically the third Sunday of each month\, with the exception of July and August. All visiting members must have a photo ID for verification (Driver’s License\, Military ID\, or ID card) and secondary form of identification proving membership in Alpha Kappa Alpha Sorority\, Incorporated®. \nPlease contact us at membership@rdoaka.com if you are a member of Alpha Kappa Alpha Sorority\, Incorporated® and wish to visit our chapter meeting.
URL:https://www.rdoaka.com/upcoming-event/rdo-aka-chapter-meeting-15/
END:VEVENT
BEGIN:VEVENT
DTSTART;TZID=America/Los_Angeles:20251214T150000
DTEND;TZID=America/Los_Angeles:20251214T170000
DTSTAMP:20260423T084113
CREATED:20241130T164808Z
LAST-MODIFIED:20251014T043703Z
UID:6271-1765724400-1765731600@www.rdoaka.com
SUMMARY:RDO AKA Chapter Meeting
DESCRIPTION:Rho Delta Omega chapter meetings are open to members of Alpha Kappa Alpha Sorority\, Incorporated® only. Chapter meetings are typically the third Sunday of each month\, with the exception of July and August. All visiting members must have a photo ID for verification (Driver’s License\, Military ID\, or ID card) and secondary form of identification proving membership in Alpha Kappa Alpha Sorority\, Incorporated®. \nPlease contact us at membership@rdoaka.com if you are a member of Alpha Kappa Alpha Sorority\, Incorporated® and wish to visit our chapter meeting.
URL:https://www.rdoaka.com/upcoming-event/rdo-aka-chapter-meeting-14/
ATTACH;FMTTYPE=image/png:https://www.rdoaka.com/wp-content/uploads/2022/07/soaring_logo-1000x1000-1-e1732976740559.png
END:VEVENT
BEGIN:VEVENT
DTSTART;TZID=America/Los_Angeles:20251202T190000
DTEND;TZID=America/Los_Angeles:20251202T210000
DTSTAMP:20260423T084113
CREATED:20241215T143834Z
LAST-MODIFIED:20250105T011849Z
UID:6363-1764702000-1764709200@www.rdoaka.com
SUMMARY:RDO Executive Board Meeting
DESCRIPTION:Monthly meeting of RDO Chapter Executive Board members.  Please refer to the EBoard meeting invitation for dial-in details.
URL:https://www.rdoaka.com/upcoming-event/rdo-executive-board-meeting-10/
ATTACH;FMTTYPE=image/jpeg:https://www.rdoaka.com/wp-content/uploads/2012/07/akardologo_620x170_pink-e1736039916262.jpg
END:VEVENT
BEGIN:VEVENT
DTSTART;TZID=America/Los_Angeles:20251109T150000
DTEND;TZID=America/Los_Angeles:20251109T170000
DTSTAMP:20260423T084113
CREATED:20241130T152054Z
LAST-MODIFIED:20251014T043616Z
UID:6247-1762700400-1762707600@www.rdoaka.com
SUMMARY:RDO + Xi Beta Joint AKA Chapter Meeting
DESCRIPTION:Rho Delta Omega chapter meetings are open to members of Alpha Kappa Alpha Sorority\, Incorporated® only. Chapter meetings are typically the third Sunday of each month\, with the exception of July and August. All visiting members must have a photo ID for verification (Driver’s License\, Military ID\, or ID card) and secondary form of identification proving membership in Alpha Kappa Alpha Sorority\, Incorporated®. \nPlease contact us at membership@rdoaka.com if you are a member of Alpha Kappa Alpha Sorority\, Incorporated® and wish to visit our chapter meeting. \nNOTE: This is a joint meeting with the Undergraduate Xi Beta Chapter.
URL:https://www.rdoaka.com/upcoming-event/rdo-aka-chapter-meeting-13/
ATTACH;FMTTYPE=image/png:https://www.rdoaka.com/wp-content/uploads/2022/07/soaring_logo-1000x1000-1-e1732976740559.png
END:VEVENT
BEGIN:VEVENT
DTSTART;TZID=America/Los_Angeles:20251104T190000
DTEND;TZID=America/Los_Angeles:20251104T210000
DTSTAMP:20260423T084113
CREATED:20241215T143614Z
LAST-MODIFIED:20250105T011956Z
UID:6361-1762282800-1762290000@www.rdoaka.com
SUMMARY:RDO Executive Board Meeting
DESCRIPTION:Monthly meeting of RDO Chapter Executive Board members.  Please refer to the EBoard meeting invitation for dial-in details.
URL:https://www.rdoaka.com/upcoming-event/rdo-executive-board-meeting-9/
ATTACH;FMTTYPE=image/jpeg:https://www.rdoaka.com/wp-content/uploads/2012/07/akardologo_620x170_pink-e1736039916262.jpg
END:VEVENT
BEGIN:VEVENT
DTSTART;TZID=America/Los_Angeles:20251101T100000
DTEND;TZID=America/Los_Angeles:20251101T140000
DTSTAMP:20260423T084113
CREATED:20251014T043455Z
LAST-MODIFIED:20251014T043455Z
UID:6893-1761991200-1762005600@www.rdoaka.com
SUMMARY:33rd Black College Awareness (BCA) Fair
DESCRIPTION:Join us for the 33rd Black College Awareness Fair\, brought to you by the Alpha Kappa Alpha Sorority\, Incorporated – Rho Delta Omega Chapter and the Ivy and Pearls Foundation (a 501c3 philanthropic organization). We are excited to see you again this year to hear from Historically Black College and University (HBCU) representatives\, students and alumni. Sign up today! \nPlease visit bcafair.org for additional event details.
URL:https://www.rdoaka.com/upcoming-event/33rd-black-college-awareness-bca-fair/
LOCATION:College of San Mateo\, 1700 W. Hillsdale Boulevard\, San Mateo\, CA\, 94402\, United States
END:VEVENT
BEGIN:VEVENT
DTSTART;TZID=America/Los_Angeles:20251019T150000
DTEND;TZID=America/Los_Angeles:20251019T170000
DTSTAMP:20260423T084113
CREATED:20241130T151944Z
LAST-MODIFIED:20241130T151944Z
UID:6245-1760886000-1760893200@www.rdoaka.com
SUMMARY:RDO AKA Chapter Meeting
DESCRIPTION:Rho Delta Omega chapter meetings are open to members of Alpha Kappa Alpha Sorority\, Incorporated® only. Chapter meetings are typically the third Sunday of each month\, with the exception of July and August. All visiting members must have a photo ID for verification (Driver’s License\, Military ID\, or ID card) and secondary form of identification proving membership in Alpha Kappa Alpha Sorority\, Incorporated®. \nPlease contact us at membership@rdoaka.com if you are a member of Alpha Kappa Alpha Sorority\, Incorporated® and wish to visit our chapter meeting.
URL:https://www.rdoaka.com/upcoming-event/rdo-aka-chapter-meeting-12/
ATTACH;FMTTYPE=image/png:https://www.rdoaka.com/wp-content/uploads/2022/07/soaring_logo-1000x1000-1-e1732976740559.png
END:VEVENT
BEGIN:VEVENT
DTSTART;VALUE=DATE:20251011
DTEND;VALUE=DATE:20251012
DTSTAMP:20260423T084113
CREATED:20250914T053835Z
LAST-MODIFIED:20250914T053835Z
UID:6887-1760140800-1760227199@www.rdoaka.com
SUMMARY:Northern California Cluster
DESCRIPTION:LeadHERship: The Power of Inclusivity. \nMembers will prepare for a dynamic blend of sisterhood\, community service\, and impactful programming designed to inform and inspire! Through the power of inclusivity\, we will continue to strengthen and elevate our Legacy of Service and Sisterhood.
URL:https://www.rdoaka.com/upcoming-event/northern-california-cluster/
LOCATION:Fremont\, CA
END:VEVENT
BEGIN:VEVENT
DTSTART;TZID=America/Los_Angeles:20251007T190000
DTEND;TZID=America/Los_Angeles:20251007T210000
DTSTAMP:20260423T084113
CREATED:20241215T143224Z
LAST-MODIFIED:20250105T012104Z
UID:6359-1759863600-1759870800@www.rdoaka.com
SUMMARY:RDO Executive Board Meeting
DESCRIPTION:Monthly meeting of RDO Chapter Executive Board members.  Please refer to the EBoard meeting invitation for dial-in details.
URL:https://www.rdoaka.com/upcoming-event/rdo-executive-board-meeting-8/
ATTACH;FMTTYPE=image/jpeg:https://www.rdoaka.com/wp-content/uploads/2012/07/akardologo_620x170_pink-e1736039916262.jpg
END:VEVENT
BEGIN:VEVENT
DTSTART;TZID=America/Los_Angeles:20250921T080000
DTEND;TZID=America/Los_Angeles:20250921T170000
DTSTAMP:20260423T084113
CREATED:20241130T151521Z
LAST-MODIFIED:20241130T151521Z
UID:6243-1758441600-1758474000@www.rdoaka.com
SUMMARY:RDO AKA Chapter Meeting
DESCRIPTION:Rho Delta Omega chapter meetings are open to members of Alpha Kappa Alpha Sorority\, Incorporated® only. Chapter meetings are typically the third Sunday of each month\, with the exception of July and August. All visiting members must have a photo ID for verification (Driver’s License\, Military ID\, or ID card) and secondary form of identification proving membership in Alpha Kappa Alpha Sorority\, Incorporated®. \nPlease contact us at membership@rdoaka.com if you are a member of Alpha Kappa Alpha Sorority\, Incorporated® and wish to visit our chapter meeting.
URL:https://www.rdoaka.com/upcoming-event/rdo-aka-chapter-meeting-11/
ATTACH;FMTTYPE=image/png:https://www.rdoaka.com/wp-content/uploads/2022/07/soaring_logo-1000x1000-1-e1732976740559.png
END:VEVENT
BEGIN:VEVENT
DTSTART;TZID=America/Los_Angeles:20250920T160000
DTEND;TZID=America/Los_Angeles:20250920T200000
DTSTAMP:20260423T084113
CREATED:20250914T052306Z
LAST-MODIFIED:20250914T052306Z
UID:6882-1758384000-1758398400@www.rdoaka.com
SUMMARY:20th Anniversary Celebration - Ivy and Pearls Foundation
DESCRIPTION:The Ivy and Pearls Foundation Presents:\nDipped in Service\, Dripping in Ivy and Pearls \nCelebrate 20 Years of Impact! Join the Ivy and Pearls Foundation for our 20th Anniversary Celebration—Dipped in Service\, Dripping in Ivy and Pearls. This unforgettable evening will honor our legacy of service in Palo Alto and surrounding communities\, recognize our incredible Community Partners\, and raise funds to fuel our ongoing charitable mission. Enjoy a lively crab feed\, music\, dancing\, raffles\, and the spirit of community connection. \nSecure your spot today—tickets are limited and going fast! \nView the website below for additional information\,
URL:https://www.rdoaka.com/upcoming-event/20th-anniversary-celebration-ivy-and-pearls-foundation/
LOCATION:San Mateo
END:VEVENT
BEGIN:VEVENT
DTSTART;TZID=America/Los_Angeles:20250902T190000
DTEND;TZID=America/Los_Angeles:20250902T210000
DTSTAMP:20260423T084113
CREATED:20241215T143035Z
LAST-MODIFIED:20250105T012158Z
UID:6357-1756839600-1756846800@www.rdoaka.com
SUMMARY:RDO Executive Board Meeting
DESCRIPTION:Monthly meeting of RDO Chapter Executive Board members.  Please refer to the EBoard meeting invitation for dial-in details.
URL:https://www.rdoaka.com/upcoming-event/rdo-executive-board-meeting-7/
ATTACH;FMTTYPE=image/jpeg:https://www.rdoaka.com/wp-content/uploads/2012/07/akardologo_620x170_pink-e1736039916262.jpg
END:VEVENT
BEGIN:VEVENT
DTSTART;VALUE=DATE:20250630
DTEND;VALUE=DATE:20250701
DTSTAMP:20260423T084113
CREATED:20250510T210113Z
LAST-MODIFIED:20250510T210459Z
UID:6786-1751241600-1751327999@www.rdoaka.com
SUMMARY:EAF Scholarship Application Deadline (30 June)
DESCRIPTION:Link to 2025 EAF Scholarship Application Form: Click HERE
URL:https://www.rdoaka.com/upcoming-event/eaf-scholarship-application-deadline-30-june/
ATTACH;FMTTYPE=image/png:https://www.rdoaka.com/wp-content/uploads/2025/05/2025EAF-e1746911054781.png
END:VEVENT
BEGIN:VEVENT
DTSTART;TZID=America/Los_Angeles:20250608T140000
DTEND;TZID=America/Los_Angeles:20250608T170000
DTSTAMP:20260423T084113
CREATED:20241215T152624Z
LAST-MODIFIED:20250518T145617Z
UID:6375-1749391200-1749402000@www.rdoaka.com
SUMMARY:Friends and Family Picnic
DESCRIPTION:Summer is soon approaching which means it’s time for the Rho Delta Omega Friends & Family Picnic! It’s time to get together before we break for summer! So bring your friends\, your family\, and even your little fur babies as we enjoy the start of summer and celebrating our hard work and efforts so far in 2025. \nEvent Location:\nMitchell Park (Pine Grove Picnic Area)\n600 East Meadow Dr\nPalo Alto\, CA 94303
URL:https://www.rdoaka.com/upcoming-event/friends-and-family-picnic-recycle-event/
LOCATION:Mitchell Park\, 600 E Meadow Drive\, Palo Alto\, CA\, 94303\, United States
ATTACH;FMTTYPE=image/png:https://www.rdoaka.com/wp-content/uploads/2024/12/2025-RDO-Friends-and-Family-Picnic-e1747580102757.png
END:VEVENT
BEGIN:VEVENT
DTSTART;TZID=America/Los_Angeles:20250608T130000
DTEND;TZID=America/Los_Angeles:20250608T140000
DTSTAMP:20260423T084113
CREATED:20241130T151308Z
LAST-MODIFIED:20250518T145910Z
UID:6241-1749387600-1749391200@www.rdoaka.com
SUMMARY:RDO AKA Chapter Meeting
DESCRIPTION:Rho Delta Omega chapter meetings are open to members of Alpha Kappa Alpha Sorority\, Incorporated® only. All visiting members must have a photo ID for verification (Driver’s License\, Military ID\, or ID card) and secondary form of identification proving membership in Alpha Kappa Alpha Sorority\, Incorporated®. \nPlease contact us at membership@rdoaka.com if you are a member of Alpha Kappa Alpha Sorority\, Incorporated® and wish to visit our chapter meeting. \nJune 2025 Location Notes:\nMitchell Park (Pine Grove Picnic Area)\n600 East Meadow Dr\nPalo Alto\, CA 94303
URL:https://www.rdoaka.com/upcoming-event/rdo-aka-chapter-meeting-10/
LOCATION:Mitchell Park\, 600 E Meadow Drive\, Palo Alto\, CA\, 94303\, United States
ATTACH;FMTTYPE=image/png:https://www.rdoaka.com/wp-content/uploads/2022/07/soaring_logo-1000x1000-1-e1732976740559.png
END:VEVENT
BEGIN:VEVENT
DTSTART;TZID=America/Los_Angeles:20250603T190000
DTEND;TZID=America/Los_Angeles:20250603T210000
DTSTAMP:20260423T084113
CREATED:20241215T142922Z
LAST-MODIFIED:20250105T012359Z
UID:6355-1748977200-1748984400@www.rdoaka.com
SUMMARY:RDO Executive Board Meeting
DESCRIPTION:Monthly meeting of RDO Chapter Executive Board members.  Please refer to the EBoard meeting invitation for dial-in details.
URL:https://www.rdoaka.com/upcoming-event/rdo-executive-board-meeting-6/
ATTACH;FMTTYPE=image/jpeg:https://www.rdoaka.com/wp-content/uploads/2012/07/akardologo_620x170_pink-e1736039916262.jpg
END:VEVENT
BEGIN:VEVENT
DTSTART;TZID=America/Los_Angeles:20250601T160000
DTEND;TZID=America/Los_Angeles:20250601T190000
DTSTAMP:20260423T084113
CREATED:20250518T152241Z
LAST-MODIFIED:20250518T152241Z
UID:6822-1748793600-1748804400@www.rdoaka.com
SUMMARY:37th African American Baccalaureate Program
DESCRIPTION:The Eta Rho Omega Chapter of Alpha Kappa Alpha Sorority\, Inc. in conjunction with the Ivy Rose Community Foundation\, Inc. proudly present the 37th African American Baccalaureate Program to honor high school graduates. Signup here. \nThe African American Baccalaureate will be held on Sunday\, June 1\, 2025 at 4:00pm at Emmanuel Baptist Church. Beginning in April\, the graduating seniors will participate in a series of workshops covering health\, finance\, and freshman transition. During the Baccalaureate program students will be honored for participating in community\, extra-curricular\, civic\, and cultural activities. They will also be recognized for scholastic honors\, most improved student honors\, leadership\, and sports. Some students will receive monetary awards or plaques for outstanding participation in the areas noted above. The Ivy Rose Community Foundation\, Inc. 2025 scholarship recipients will be announced during the program along with scholarship recipients from other community organizations. \nSignup here.
URL:https://www.rdoaka.com/upcoming-event/37th-african-american-baccalaureate-program/
LOCATION:Emmanuel Baptist Church\, 467 N. White Road\, San Jose\, CA\, 95127\, United States
ATTACH;FMTTYPE=image/webp:https://www.rdoaka.com/wp-content/uploads/2024/09/local_community-1000x1000-1-e1727517536573.webp
END:VEVENT
BEGIN:VEVENT
DTSTART;TZID=America/Los_Angeles:20250518T130000
DTEND;TZID=America/Los_Angeles:20250518T160000
DTSTAMP:20260423T084113
CREATED:20241130T151117Z
LAST-MODIFIED:20250510T221415Z
UID:6239-1747573200-1747584000@www.rdoaka.com
SUMMARY:RDO AKA Chapter Meeting
DESCRIPTION:Rho Delta Omega chapter meetings are open to members of Alpha Kappa Alpha Sorority\, Incorporated® only. Chapter meetings are typically the third Sunday of each month\, with the exception of July and August. All visiting members must have a photo ID for verification (Driver’s License\, Military ID\, or ID card) and secondary form of identification proving membership in Alpha Kappa Alpha Sorority\, Incorporated®. \nPlease contact us at membership@rdoaka.com if you are a member of Alpha Kappa Alpha Sorority\, Incorporated® and wish to visit our chapter meeting.
URL:https://www.rdoaka.com/upcoming-event/rdo-aka-chapter-meeting-9/
LOCATION:Google Huddle\, 2000 N Shoreline Blvd\, Mountain View\, CA\, 94043\, United States
ATTACH;FMTTYPE=image/png:https://www.rdoaka.com/wp-content/uploads/2022/07/soaring_logo-1000x1000-1-e1732976740559.png
END:VEVENT
BEGIN:VEVENT
DTSTART;TZID=America/Los_Angeles:20250505T190000
DTEND;TZID=America/Los_Angeles:20250505T210000
DTSTAMP:20260423T084113
CREATED:20241215T142702Z
LAST-MODIFIED:20250510T203828Z
UID:6353-1746471600-1746478800@www.rdoaka.com
SUMMARY:RDO Executive Board Meeting
DESCRIPTION:Monthly meeting of RDO Chapter Executive Board members.  Please refer to the EBoard meeting invitation for dial-in details.
URL:https://www.rdoaka.com/upcoming-event/rdo-executive-board-meeting-5/
ATTACH;FMTTYPE=image/jpeg:https://www.rdoaka.com/wp-content/uploads/2012/07/akardologo_620x170_pink-e1736039916262.jpg
END:VEVENT
BEGIN:VEVENT
DTSTART;TZID=America/Los_Angeles:20250413T080000
DTEND;TZID=America/Los_Angeles:20250413T170000
DTSTAMP:20260423T084113
CREATED:20241130T151002Z
LAST-MODIFIED:20250409T221615Z
UID:6237-1744531200-1744563600@www.rdoaka.com
SUMMARY:RDO AKA Chapter Meeting
DESCRIPTION:Rho Delta Omega chapter meetings are open to members of Alpha Kappa Alpha Sorority\, Incorporated® only. All visiting members must have a photo ID for verification (Driver’s License\, Military ID\, or ID card) and secondary form of identification proving membership in Alpha Kappa Alpha Sorority\, Incorporated®. \nPlease contact us at membership@rdoaka.com if you are a member of Alpha Kappa Alpha Sorority\, Incorporated® and wish to visit our chapter meeting.
URL:https://www.rdoaka.com/upcoming-event/rdo-aka-chapter-meeting-8/
LOCATION:Sunnyvale Community Services\, 1160 Kern Avenue\, Sunnyvale\, CA\, 94085\, United States
ATTACH;FMTTYPE=image/png:https://www.rdoaka.com/wp-content/uploads/2022/07/soaring_logo-1000x1000-1-e1732976740559.png
END:VEVENT
BEGIN:VEVENT
DTSTART;TZID=America/Los_Angeles:20250401T190000
DTEND;TZID=America/Los_Angeles:20250401T210000
DTSTAMP:20260423T084113
CREATED:20241215T142033Z
LAST-MODIFIED:20250105T013118Z
UID:6351-1743534000-1743541200@www.rdoaka.com
SUMMARY:RDO Executive Board Meeting
DESCRIPTION:Monthly meeting of RDO Chapter Executive Board members.  Please refer to the EBoard meeting invitation for dial-in details.
URL:https://www.rdoaka.com/upcoming-event/rdo-executive-board-meeting-4/
ATTACH;FMTTYPE=image/jpeg:https://www.rdoaka.com/wp-content/uploads/2012/07/akardologo_620x170_pink-e1736039916262.jpg
END:VEVENT
BEGIN:VEVENT
DTSTART;VALUE=DATE:20250331
DTEND;VALUE=DATE:20250401
DTSTAMP:20260423T084113
CREATED:20241215T152021Z
LAST-MODIFIED:20250108T024727Z
UID:6372-1743379200-1743465599@www.rdoaka.com
SUMMARY:Scholarship Application Deadline (31 Mar)
DESCRIPTION:Link to 2025 Scholarship Application Form: Click HERE
URL:https://www.rdoaka.com/upcoming-event/scholarship-application-deadline-31-mar-2/
ATTACH;FMTTYPE=image/jpeg:https://www.rdoaka.com/wp-content/uploads/2025/01/2025RDOScholarshipFlyer-e1736304419496.jpg
END:VEVENT
BEGIN:VEVENT
DTSTART;TZID=America/Los_Angeles:20250316T150000
DTEND;TZID=America/Los_Angeles:20250316T170000
DTSTAMP:20260423T084113
CREATED:20241130T150802Z
LAST-MODIFIED:20241130T150802Z
UID:6235-1742137200-1742144400@www.rdoaka.com
SUMMARY:RDO AKA Chapter Meeting
DESCRIPTION:Rho Delta Omega chapter meetings are open to members of Alpha Kappa Alpha Sorority\, Incorporated® only. Chapter meetings are typically the third Sunday of each month\, with the exception of July and August. All visiting members must have a photo ID for verification (Driver’s License\, Military ID\, or ID card) and secondary form of identification proving membership in Alpha Kappa Alpha Sorority\, Incorporated®. \nPlease contact us at membership@rdoaka.com if you are a member of Alpha Kappa Alpha Sorority\, Incorporated® and wish to visit our chapter meeting.
URL:https://www.rdoaka.com/upcoming-event/rdo-aka-chapter-meeting-7/
ATTACH;FMTTYPE=image/png:https://www.rdoaka.com/wp-content/uploads/2022/07/soaring_logo-1000x1000-1-e1732976740559.png
END:VEVENT
BEGIN:VEVENT
DTSTART;TZID=America/Los_Angeles:20250311T190000
DTEND;TZID=America/Los_Angeles:20250311T210000
DTSTAMP:20260423T084113
CREATED:20241215T141830Z
LAST-MODIFIED:20250208T125146Z
UID:6349-1741719600-1741726800@www.rdoaka.com
SUMMARY:RDO Executive Board Meeting
DESCRIPTION:Monthly meeting of RDO Chapter Executive Board members.  Please refer to the EBoard meeting invitation for dial-in details.
URL:https://www.rdoaka.com/upcoming-event/rdo-executive-board-meeting-3/
ATTACH;FMTTYPE=image/jpeg:https://www.rdoaka.com/wp-content/uploads/2012/07/akardologo_620x170_pink-e1736039916262.jpg
END:VEVENT
BEGIN:VEVENT
DTSTART;TZID=America/Los_Angeles:20250304T190000
DTEND;TZID=America/Los_Angeles:20250304T210000
DTSTAMP:20260423T084113
CREATED:20250510T204359Z
LAST-MODIFIED:20250510T204359Z
UID:6734-1741114800-1741122000@www.rdoaka.com
SUMMARY:RDO Rolling Programming Meeting
DESCRIPTION:Programming Meeting.  Please refer to the event meeting invitation for dial-in details and program timeslots.
URL:https://www.rdoaka.com/upcoming-event/rdo-rolling-programming-meeting/
ATTACH;FMTTYPE=image/jpeg:https://www.rdoaka.com/wp-content/uploads/2012/07/akardologo_620x170_pink-e1736039916262.jpg
END:VEVENT
BEGIN:VEVENT
DTSTART;VALUE=DATE:20250226
DTEND;VALUE=DATE:20250303
DTSTAMP:20260423T084113
CREATED:20241215T150920Z
LAST-MODIFIED:20250112T192942Z
UID:6370-1740528000-1740959999@www.rdoaka.com
SUMMARY:96th Far Western Regional Conference
DESCRIPTION:Sorors\, register now for the 96th Far Western Regional Conference (FWRC). Rho Delta Omega is excited to join Regional Director Soror Nicole Starr Jordan under the theme\, Homecoming: Rooted in Sisterhood\, and serve as a host chapter for the conference. \n\n09 Jan 2025: Registration opens\n22 Jan 2025: Late registration begins\n31 Jan 2025: Registration closes\n\nRefer to E-Blasts from AKA Far Western Region for conference and registration details.
URL:https://www.rdoaka.com/upcoming-event/96th-far-western-regional-conference/
ATTACH;FMTTYPE=image/png:https://www.rdoaka.com/wp-content/uploads/2024/12/FWRCbanner-e1736710171816.png
END:VEVENT
BEGIN:VEVENT
DTSTART;TZID=America/Los_Angeles:20250223T150000
DTEND;TZID=America/Los_Angeles:20250223T170000
DTSTAMP:20260423T084113
CREATED:20241130T150605Z
LAST-MODIFIED:20250208T125036Z
UID:6232-1740322800-1740330000@www.rdoaka.com
SUMMARY:RDO + Xi Beta Joint AKA Chapter Meeting
DESCRIPTION:Rho Delta Omega chapter meetings are open to members of Alpha Kappa Alpha Sorority\, Incorporated® only. All visiting members must have a photo ID for verification (Driver’s License\, Military ID\, or ID card) and secondary form of identification proving membership in Alpha Kappa Alpha Sorority\, Incorporated®. \nPlease contact us at membership@rdoaka.com if you are a member of Alpha Kappa Alpha Sorority\, Incorporated® and wish to visit our chapter meeting. \nNOTE: This is a joint meeting with the Undergraduate Xi Beta Chapter.
URL:https://www.rdoaka.com/upcoming-event/rdo-aka-chapter-meeting-6/
LOCATION:Old Union – Stanford University\, 520 Lasuen Mall\, Stanford\, CA\, 94305\, United States
ATTACH;FMTTYPE=image/png:https://www.rdoaka.com/wp-content/uploads/2022/07/soaring_logo-1000x1000-1-e1732976740559.png
END:VEVENT
END:VCALENDAR